BEGIN:VCALENDAR
VERSION:2.0
PRODID:GIGPRESS 2.0 WORDPRESS PLUGIN
CALSCALE:GREGORIAN
X-WR-TIMEZONE:Etc/GMT
METHOD:PUBLISH
BEGIN:VTIMEZONE
TZID:GMT
BEGIN:STANDARD
DTSTART:20071028T010000
TZOFFSETTO:+0000
TZOFFSETFROM:+0000
END:STANDARD
END:VTIMEZONE
BEGIN:VEVENT
SUMMARY:"4 of Us" at Quenched & Tempered Brewing Co.
DESCRIPTION:Notes: Performance time is 7-9pm.  With Lisa Young (vocals) and Kevin Eikum (bass &amp\; vocals). 
LOCATION:Quenched & Tempered Brewing Co.\, 1210 Jackson St.\, Toledo\, US
UID:20260509T180000Z-619-chris@chrisbuzzelli.com
URL:https://chrisbuzzelli.com
DTSTART;VALUE=DATE-TIME;TZID=GMT:20260509T180000Z
DTEND;VALUE=DATE-TIME;TZID=GMT:20260509T180000Z
DTSTAMP:20260419T095050Z
END:VEVENT
END:VCALENDAR