BEGIN:VCALENDAR
VERSION:2.0
PRODID:GIGPRESS 2.0 WORDPRESS PLUGIN
CALSCALE:GREGORIAN
X-WR-TIMEZONE:Etc/GMT
METHOD:PUBLISH
BEGIN:VTIMEZONE
TZID:GMT
BEGIN:STANDARD
DTSTART:20071028T010000
TZOFFSETTO:+0000
TZOFFSETFROM:+0000
END:STANDARD
END:VTIMEZONE
BEGIN:VEVENT
SUMMARY:Various artists at University of Northern Florida
DESCRIPTION:Notes: Jack Petersen Celebration of Life &amp\; Legacy Concert. 
LOCATION:University of Northern Florida\, Jacksonville\, US
UID:20260503T153000Z-620-chris@chrisbuzzelli.com
URL:https://chrisbuzzelli.com
DTSTART;VALUE=DATE-TIME;TZID=GMT:20260503T153000Z
DTEND;VALUE=DATE-TIME;TZID=GMT:20260503T153000Z
DTSTAMP:20260419T095040Z
END:VEVENT
END:VCALENDAR