BEGIN:VCALENDAR
VERSION:2.0
PRODID:GIGPRESS 2.0 WORDPRESS PLUGIN
CALSCALE:GREGORIAN
X-WR-TIMEZONE:Etc/GMT
METHOD:PUBLISH
BEGIN:VTIMEZONE
TZID:GMT
BEGIN:STANDARD
DTSTART:20071028T010000
TZOFFSETTO:+0000
TZOFFSETFROM:+0000
END:STANDARD
END:VTIMEZONE
BEGIN:VEVENT
SUMMARY:Duo with Vocalist Lori Lefevre at Hillside Wine Shoppe
DESCRIPTION:Notes: Performance time is 5:30-8:30pm.  Wine\, snacks and flatbreads. 
LOCATION:Hillside Wine Shoppe\, 221 Main St\, Gilboa\, US
UID:20260522T173000Z-622-chris@chrisbuzzelli.com
URL:https://chrisbuzzelli.com
DTSTART;VALUE=DATE-TIME;TZID=GMT:20260522T173000Z
DTEND;VALUE=DATE-TIME;TZID=GMT:20260522T173000Z
DTSTAMP:20260422T052553Z
END:VEVENT
END:VCALENDAR