BEGIN:VCALENDAR
VERSION:2.0
PRODID:GIGPRESS 2.0 WORDPRESS PLUGIN
CALSCALE:GREGORIAN
X-WR-TIMEZONE:Etc/GMT
METHOD:PUBLISH
BEGIN:VTIMEZONE
TZID:GMT
BEGIN:STANDARD
DTSTART:20071028T010000
TZOFFSETTO:+0000
TZOFFSETFROM:+0000
END:STANDARD
END:VTIMEZONE
BEGIN:VEVENT
SUMMARY:Lisa Young Quartet at Peacock Cafe
DESCRIPTION:Notes: Full bar.  Performance time is 7:30-10pm. 
LOCATION:Peacock Cafe\, Toledo\, US
UID:20260528T193000Z-623-chris@chrisbuzzelli.com
URL:https://chrisbuzzelli.com
DTSTART;VALUE=DATE-TIME;TZID=GMT:20260528T193000Z
DTEND;VALUE=DATE-TIME;TZID=GMT:20260528T193000Z
DTSTAMP:20260419T095000Z
END:VEVENT
END:VCALENDAR