BEGIN:VCALENDAR
VERSION:2.0
PRODID:GIGPRESS 2.0 WORDPRESS PLUGIN
CALSCALE:GREGORIAN
X-WR-TIMEZONE:Etc/GMT
METHOD:PUBLISH
BEGIN:VTIMEZONE
TZID:GMT
BEGIN:STANDARD
DTSTART:20071028T010000
TZOFFSETTO:+0000
TZOFFSETFROM:+0000
END:STANDARD
END:VTIMEZONE
BEGIN:VEVENT
SUMMARY:Toledo Jazz Orchestra at Peristyle at the Toledo Museum of Art
DESCRIPTION:Notes: With guest Ray Angry. 
LOCATION:Peristyle at the Toledo Museum of Art\, Toledo\, US
UID:20260613T200000Z-624-chris@chrisbuzzelli.com
URL:https://chrisbuzzelli.com
DTSTART;VALUE=DATE-TIME;TZID=GMT:20260613T200000Z
DTEND;VALUE=DATE-TIME;TZID=GMT:20260613T200000Z
DTSTAMP:20260420T075934Z
END:VEVENT
END:VCALENDAR