BEGIN:VCALENDAR
VERSION:2.0
PRODID:GIGPRESS 2.0 WORDPRESS PLUGIN
CALSCALE:GREGORIAN
X-WR-TIMEZONE:Etc/GMT
METHOD:PUBLISH
BEGIN:VTIMEZONE
TZID:GMT
BEGIN:STANDARD
DTSTART:20071028T010000
TZOFFSETTO:+0000
TZOFFSETFROM:+0000
END:STANDARD
END:VTIMEZONE
BEGIN:VEVENT
SUMMARY:Toledo Jazz Orchestra at Toledo Botanical Garden
DESCRIPTION:Notes: Performance time 6:30-8:30pm.  "Jazz in the Garden".  Food truck.  Bring your own chairs. 
LOCATION:Toledo Botanical Garden\, 5403 Elmer Drive\, Toledo\, US
UID:20260716T183000Z-625-chris@chrisbuzzelli.com
URL:https://chrisbuzzelli.com
DTSTART;VALUE=DATE-TIME;TZID=GMT:20260716T183000Z
DTEND;VALUE=DATE-TIME;TZID=GMT:20260716T183000Z
DTSTAMP:20260419T094940Z
END:VEVENT
END:VCALENDAR