BEGIN:VCALENDAR
VERSION:2.0
PRODID:GIGPRESS 2.0 WORDPRESS PLUGIN
CALSCALE:GREGORIAN
X-WR-TIMEZONE:Etc/GMT
METHOD:PUBLISH
BEGIN:VTIMEZONE
TZID:GMT
BEGIN:STANDARD
DTSTART:20071028T010000
TZOFFSETTO:+0000
TZOFFSETFROM:+0000
END:STANDARD
END:VTIMEZONE
BEGIN:VEVENT
SUMMARY:"4 of Us" at Arlyn's Good Beer
DESCRIPTION:Notes: Performance time is 7-10pm.  With Lisa Young (vocals) and Kevin Eikum (bass &amp\; vocals). 
LOCATION:Arlyn's Good Beer\, 520 Hankey Ave\, Bowling Green\, US
UID:20260724T190000Z-627-chris@chrisbuzzelli.com
URL:https://chrisbuzzelli.com
DTSTART;VALUE=DATE-TIME;TZID=GMT:20260724T190000Z
DTEND;VALUE=DATE-TIME;TZID=GMT:20260724T190000Z
DTSTAMP:20260418T034645Z
END:VEVENT
END:VCALENDAR