BEGIN:VCALENDAR
VERSION:2.0
PRODID:GIGPRESS 2.0 WORDPRESS PLUGIN
CALSCALE:GREGORIAN
X-WR-TIMEZONE:Etc/GMT
METHOD:PUBLISH
BEGIN:VTIMEZONE
TZID:GMT
BEGIN:STANDARD
DTSTART:20071028T010000
TZOFFSETTO:+0000
TZOFFSETFROM:+0000
END:STANDARD
END:VTIMEZONE
BEGIN:VEVENT
SUMMARY:Duo with Vocalist Lori Lefevre at Michigan Jazz Fest
DESCRIPTION:Notes: The Michigan Jazz Festival is a FREE festival featuring 7 stages and music from noon to 9pm. 
LOCATION:Michigan Jazz Fest\, Livonia\, US
UID:20260719T190000Z-628-chris@chrisbuzzelli.com
URL:https://chrisbuzzelli.com
DTSTART;VALUE=DATE-TIME;TZID=GMT:20260719T190000Z
DTEND;VALUE=DATE-TIME;TZID=GMT:20260719T190000Z
DTSTAMP:20260422T051310Z
END:VEVENT
END:VCALENDAR